BEGIN:VCALENDAR
VERSION:2.0
PRODID:-//Liedermachfachgeschäft - ECPv6.15.14//NONSGML v1.0//EN
CALSCALE:GREGORIAN
METHOD:PUBLISH
X-WR-CALNAME:Liedermachfachgeschäft
X-ORIGINAL-URL:https://liedermachfachgeschaeft.de
X-WR-CALDESC:Veranstaltungen für Liedermachfachgeschäft
REFRESH-INTERVAL;VALUE=DURATION:PT1H
X-Robots-Tag:noindex
X-PUBLISHED-TTL:PT1H
BEGIN:VTIMEZONE
TZID:Europe/Berlin
BEGIN:DAYLIGHT
TZOFFSETFROM:+0100
TZOFFSETTO:+0200
TZNAME:CEST
DTSTART:20250330T010000
END:DAYLIGHT
BEGIN:STANDARD
TZOFFSETFROM:+0200
TZOFFSETTO:+0100
TZNAME:CET
DTSTART:20251026T010000
END:STANDARD
BEGIN:DAYLIGHT
TZOFFSETFROM:+0100
TZOFFSETTO:+0200
TZNAME:CEST
DTSTART:20260329T010000
END:DAYLIGHT
BEGIN:STANDARD
TZOFFSETFROM:+0200
TZOFFSETTO:+0100
TZNAME:CET
DTSTART:20261025T010000
END:STANDARD
BEGIN:DAYLIGHT
TZOFFSETFROM:+0100
TZOFFSETTO:+0200
TZNAME:CEST
DTSTART:20270328T010000
END:DAYLIGHT
BEGIN:STANDARD
TZOFFSETFROM:+0200
TZOFFSETTO:+0100
TZNAME:CET
DTSTART:20271031T010000
END:STANDARD
END:VTIMEZONE
BEGIN:VEVENT
DTSTART;TZID=Europe/Berlin:20261126T200000
DTEND;TZID=Europe/Berlin:20261126T223000
DTSTAMP:20260419T151706
CREATED:20251127T215034Z
LAST-MODIFIED:20251127T215034Z
UID:864-1795723200-1795732200@liedermachfachgeschaeft.de
SUMMARY:Götz Widmann | Osnabrück | Kleine Freiheit
DESCRIPTION:Ein Mann\, eine Gitarre\, ein Mikrofon. Das ist alles was Götz Widmann braucht\, um sein Publikum einen Abend lang alles Drumherum komplett vergessen zu lassen und den Konzertsaal in einen Palast der Lebensfreude zu verwandeln. Live und solo immer schon am allerbesten ist jedes Götz-Widmann-Konzert ein musikalischer Kurzurlaub vom allgemeinen Wahnsinn\, ein paar Stunden unbeschwertes Lachen gegen die ganzen unsympathischen Energien um uns herum\, ein sich selbst gegönntes spontanes Glücksgefühl. Und endlich mal wieder normale Menschen\, die es sich zusammen friedlich feiernd einfach nur gut gehen lassen.\nEher mit emporgehobenem Mittel- als Zeigefinger analysiert Götz Widmann in seinen Songs auf seine typisch respektlos-humorvolle Weise nahezu alles von den ganz kleinen Wundern des Alltags bis zum Sexleben von Galaxien. Das einzige Blatt\, das er dabei vielleicht vor den Mund nimmt\, ist das Jointpaper kurz vorm Zukleben. Götz Widmann ist teilweise schockierend ehrlich\, aber bei aller augenzwinkernden Bosheit durchzieht seine Lieder eine radikale Menschenliebe\, ein niemals müde werdender Aufruf zum eigenständigen Denken\, eine tiefe Verneigung vor dem Recht des Individuums zur Gegenwehr gegen Verdummung\, Hass und Tyrannei.\nwww.goetzwidmann.de
URL:https://liedermachfachgeschaeft.de/kalender/goetz-widmann-osnabrueck-kleine-freiheit/
LOCATION:Kleine Freiheit\, Hamburger Strasse 22\, Osnabrück\, 49084\, Germany
CATEGORIES:Götz Widmann
ATTACH;FMTTYPE=image/jpeg:https://liedermachfachgeschaeft.de/wp-content/uploads/goetz_partytime.jpg
END:VEVENT
BEGIN:VEVENT
DTSTART;TZID=Europe/Berlin:20261128T200000
DTEND;TZID=Europe/Berlin:20261128T223000
DTSTAMP:20260419T151706
CREATED:20251127T215310Z
LAST-MODIFIED:20251127T215310Z
UID:867-1795896000-1795905000@liedermachfachgeschaeft.de
SUMMARY:Götz Widmann | Flensburg | Kühlhaus
DESCRIPTION:Ein Mann\, eine Gitarre\, ein Mikrofon. Das ist alles was Götz Widmann braucht\, um sein Publikum einen Abend lang alles Drumherum komplett vergessen zu lassen und den Konzertsaal in einen Palast der Lebensfreude zu verwandeln. Live und solo immer schon am allerbesten ist jedes Götz-Widmann-Konzert ein musikalischer Kurzurlaub vom allgemeinen Wahnsinn\, ein paar Stunden unbeschwertes Lachen gegen die ganzen unsympathischen Energien um uns herum\, ein sich selbst gegönntes spontanes Glücksgefühl. Und endlich mal wieder normale Menschen\, die es sich zusammen friedlich feiernd einfach nur gut gehen lassen.\nEher mit emporgehobenem Mittel- als Zeigefinger analysiert Götz Widmann in seinen Songs auf seine typisch respektlos-humorvolle Weise nahezu alles von den ganz kleinen Wundern des Alltags bis zum Sexleben von Galaxien. Das einzige Blatt\, das er dabei vielleicht vor den Mund nimmt\, ist das Jointpaper kurz vorm Zukleben. Götz Widmann ist teilweise schockierend ehrlich\, aber bei aller augenzwinkernden Bosheit durchzieht seine Lieder eine radikale Menschenliebe\, ein niemals müde werdender Aufruf zum eigenständigen Denken\, eine tiefe Verneigung vor dem Recht des Individuums zur Gegenwehr gegen Verdummung\, Hass und Tyrannei.\nwww.goetzwidmann.de
URL:https://liedermachfachgeschaeft.de/kalender/goetz-widmann-flensburg-kuehlhaus/
LOCATION:Kühlhaus\, Mühlendamm 25\, Flensburg\, 24937\, Germany
CATEGORIES:Götz Widmann
ATTACH;FMTTYPE=image/jpeg:https://liedermachfachgeschaeft.de/wp-content/uploads/goetz_partytime.jpg
END:VEVENT
END:VCALENDAR